Back to Multiple platform build/check report for BioC 3.18:   simplified   long
[A]BCDEFGHIJKLMNOPQRSTUVWXYZ

This page was generated on 2023-11-30 11:37:20 -0500 (Thu, 30 Nov 2023).

HostnameOSArch (*)R versionInstalled pkgs
nebbiolo2Linux (Ubuntu 22.04.2 LTS)x86_644.3.2 Patched (2023-11-13 r85521) -- "Eye Holes" 4685
palomino4Windows Server 2022 Datacenterx644.3.2 (2023-10-31 ucrt) -- "Eye Holes" 4420
lconwaymacOS 12.7.1 Montereyx86_644.3.2 Patched (2023-11-01 r85457) -- "Eye Holes" 4439
Click on any hostname to see more info about the system (e.g. compilers)      (*) as reported by 'uname -p', except on Windows and Mac OS X

Package 60/2266HostnameOS / ArchINSTALLBUILDCHECKBUILD BIN
amplican 1.24.0  (landing page)
Eivind Valen
Snapshot Date: 2023-11-29 14:05:05 -0500 (Wed, 29 Nov 2023)
git_url: https://git.bioconductor.org/packages/amplican
git_branch: RELEASE_3_18
git_last_commit: 265b7ec
git_last_commit_date: 2023-10-24 10:59:34 -0500 (Tue, 24 Oct 2023)
nebbiolo2Linux (Ubuntu 22.04.2 LTS) / x86_64  OK    OK    OK  UNNEEDED, same version is already published
palomino4Windows Server 2022 Datacenter / x64  OK    OK    OK    OK  UNNEEDED, same version is already published
lconwaymacOS 12.7.1 Monterey / x86_64  OK    OK    OK    OK  UNNEEDED, same version is already published
kjohnson1macOS 13.6.1 Ventura / arm64see weekly results here

CHECK results for amplican on lconway


To the developers/maintainers of the amplican package:
- Allow up to 24 hours (and sometimes 48 hours) for your latest push to git@git.bioconductor.org:packages/amplican.git to reflect on this report. See Troubleshooting Build Report for more information.
- Use the following Renviron settings to reproduce errors and warnings.
- If 'R CMD check' started to fail recently on the Linux builder(s) over a missing dependency, add the missing dependency to 'Suggests:' in your DESCRIPTION file. See Renviron.bioc for more information.

raw results


Summary

Package: amplican
Version: 1.24.0
Command: /Library/Frameworks/R.framework/Resources/bin/R CMD check --install=check:amplican.install-out.txt --library=/Library/Frameworks/R.framework/Resources/library --no-vignettes --timings amplican_1.24.0.tar.gz
StartedAt: 2023-11-29 18:41:15 -0500 (Wed, 29 Nov 2023)
EndedAt: 2023-11-29 18:44:22 -0500 (Wed, 29 Nov 2023)
EllapsedTime: 187.5 seconds
RetCode: 0
Status:   OK  
CheckDir: amplican.Rcheck
Warnings: 0

Command output

##############################################################################
##############################################################################
###
### Running command:
###
###   /Library/Frameworks/R.framework/Resources/bin/R CMD check --install=check:amplican.install-out.txt --library=/Library/Frameworks/R.framework/Resources/library --no-vignettes --timings amplican_1.24.0.tar.gz
###
##############################################################################
##############################################################################


* using log directory ‘/Users/biocbuild/bbs-3.18-bioc/meat/amplican.Rcheck’
* using R version 4.3.2 Patched (2023-11-01 r85457)
* using platform: x86_64-apple-darwin20 (64-bit)
* R was compiled by
    Apple clang version 14.0.3 (clang-1403.0.22.14.1)
    GNU Fortran (GCC) 12.2.0
* running under: macOS Monterey 12.7.1
* using session charset: UTF-8
* using option ‘--no-vignettes’
* checking for file ‘amplican/DESCRIPTION’ ... OK
* checking extension type ... Package
* this is package ‘amplican’ version ‘1.24.0’
* package encoding: UTF-8
* checking package namespace information ... OK
* checking package dependencies ... OK
* checking if this is a source package ... OK
* checking if there is a namespace ... OK
* checking for hidden files and directories ... OK
* checking for portable file names ... OK
* checking for sufficient/correct file permissions ... OK
* checking whether package ‘amplican’ can be installed ... OK
* used C++ compiler: ‘Apple clang version 14.0.0 (clang-1400.0.29.202)’
* used SDK: ‘MacOSX11.3.sdk’
* checking installed package size ... OK
* checking package directory ... OK
* checking ‘build’ directory ... OK
* checking DESCRIPTION meta-information ... OK
* checking top-level files ... OK
* checking for left-over files ... OK
* checking index information ... OK
* checking package subdirectories ... OK
* checking R files for non-ASCII characters ... OK
* checking R files for syntax errors ... OK
* checking whether the package can be loaded ... OK
* checking whether the package can be loaded with stated dependencies ... OK
* checking whether the package can be unloaded cleanly ... OK
* checking whether the namespace can be loaded with stated dependencies ... OK
* checking whether the namespace can be unloaded cleanly ... OK
* checking startup messages can be suppressed ... OK
* checking dependencies in R code ... OK
* checking S3 generic/method consistency ... OK
* checking replacement functions ... OK
* checking foreign function calls ... OK
* checking R code for possible problems ... OK
* checking Rd files ... OK
* checking Rd metadata ... OK
* checking Rd cross-references ... OK
* checking for missing documentation entries ... OK
* checking for code/documentation mismatches ... OK
* checking Rd \usage sections ... OK
* checking Rd contents ... OK
* checking for unstated dependencies in examples ... OK
* checking line endings in C/C++/Fortran sources/headers ... OK
* checking compiled code ... NOTE
Note: information on .o files is not available
* checking files in ‘vignettes’ ... OK
* checking examples ... OK
Examples with CPU (user + system) or elapsed time > 5s
                  user system elapsed
amplicanAlign    8.289  0.895   9.251
amplicanPipeline 7.564  0.566   8.185
* checking for unstated dependencies in ‘tests’ ... OK
* checking tests ...
  Running ‘testthat.R’
 OK
* checking for unstated dependencies in vignettes ... OK
* checking package vignettes in ‘inst/doc’ ... OK
* checking running R code from vignettes ... SKIPPED
* checking re-building of vignette outputs ... SKIPPED
* checking PDF version of manual ... OK
* DONE

Status: 1 NOTE
See
  ‘/Users/biocbuild/bbs-3.18-bioc/meat/amplican.Rcheck/00check.log’
for details.



Installation output

amplican.Rcheck/00install.out

##############################################################################
##############################################################################
###
### Running command:
###
###   /Library/Frameworks/R.framework/Resources/bin/R CMD INSTALL amplican
###
##############################################################################
##############################################################################


* installing to library ‘/Library/Frameworks/R.framework/Versions/4.3-x86_64/Resources/library’
* installing *source* package ‘amplican’ ...
** using staged installation
** libs
using C++ compiler: ‘Apple clang version 14.0.0 (clang-1400.0.29.202)’
using SDK: ‘MacOSX11.3.sdk’
clang++ -arch x86_64 -std=gnu++17 -I"/Library/Frameworks/R.framework/Resources/include" -DNDEBUG  -I'/Library/Frameworks/R.framework/Versions/4.3-x86_64/Resources/library/Rcpp/include' -I/opt/R/x86_64/include    -fPIC  -falign-functions=64 -Wall -g -O2  -c RcppExports.cpp -o RcppExports.o
clang++ -arch x86_64 -std=gnu++17 -I"/Library/Frameworks/R.framework/Resources/include" -DNDEBUG  -I'/Library/Frameworks/R.framework/Versions/4.3-x86_64/Resources/library/Rcpp/include' -I/opt/R/x86_64/include    -fPIC  -falign-functions=64 -Wall -g -O2  -c bezier.cpp -o bezier.o
clang++ -arch x86_64 -std=gnu++17 -dynamiclib -Wl,-headerpad_max_install_names -undefined dynamic_lookup -L/Library/Frameworks/R.framework/Resources/lib -L/opt/R/x86_64/lib -o amplican.so RcppExports.o bezier.o -F/Library/Frameworks/R.framework/.. -framework R -Wl,-framework -Wl,CoreFoundation
installing to /Library/Frameworks/R.framework/Versions/4.3-x86_64/Resources/library/00LOCK-amplican/00new/amplican/libs
** R
** inst
** byte-compile and prepare package for lazy loading
** help
*** installing help indices
** building package indices
** installing vignettes
** testing if installed package can be loaded from temporary location
** checking absolute paths in shared objects and dynamic libraries
** testing if installed package can be loaded from final location
** testing if installed package keeps a record of temporary installation path
* DONE (amplican)

Tests output

amplican.Rcheck/tests/testthat.Rout


R version 4.3.2 Patched (2023-11-01 r85457) -- "Eye Holes"
Copyright (C) 2023 The R Foundation for Statistical Computing
Platform: x86_64-apple-darwin20 (64-bit)

R is free software and comes with ABSOLUTELY NO WARRANTY.
You are welcome to redistribute it under certain conditions.
Type 'license()' or 'licence()' for distribution details.

R is a collaborative project with many contributors.
Type 'contributors()' for more information and
'citation()' on how to cite R or R packages in publications.

Type 'demo()' for some demos, 'help()' for on-line help, or
'help.start()' for an HTML browser interface to help.
Type 'q()' to quit R.

> library(testthat)
> library(amplican)
Loading required package: BiocGenerics

Attaching package: 'BiocGenerics'

The following objects are masked from 'package:stats':

    IQR, mad, sd, var, xtabs

The following objects are masked from 'package:base':

    Filter, Find, Map, Position, Reduce, anyDuplicated, aperm, append,
    as.data.frame, basename, cbind, colnames, dirname, do.call,
    duplicated, eval, evalq, get, grep, grepl, intersect, is.unsorted,
    lapply, mapply, match, mget, order, paste, pmax, pmax.int, pmin,
    pmin.int, rank, rbind, rownames, sapply, setdiff, sort, table,
    tapply, union, unique, unsplit, which.max, which.min

Loading required package: Biostrings
Loading required package: S4Vectors
Loading required package: stats4

Attaching package: 'S4Vectors'

The following object is masked from 'package:utils':

    findMatches

The following objects are masked from 'package:base':

    I, expand.grid, unname

Loading required package: IRanges
Loading required package: XVector
Loading required package: GenomeInfoDb

Attaching package: 'Biostrings'

The following object is masked from 'package:base':

    strsplit

Loading required package: data.table

Attaching package: 'data.table'

The following object is masked from 'package:IRanges':

    shift

The following objects are masked from 'package:S4Vectors':

    first, second

Please consider supporting this software by citing:

Labun et al. 2019
Accurate analysis of genuine CRISPR editing events with ampliCan.
Genome Res. 2019 Mar 8
doi: 10.1101/gr.244293.118

> 
> test_check("amplican")
[ FAIL 0 | WARN 0 | SKIP 0 | PASS 57 ]
> 
> proc.time()
   user  system elapsed 
 25.209   1.911  27.294 

Example timings

amplican.Rcheck/amplican-Ex.timings

nameusersystemelapsed
AlignmentsExperimentSet-class1.3510.0721.436
amplicanAlign8.2890.8959.251
amplicanConsensus0.1380.0090.148
amplicanFilter0.0240.0080.033
amplicanMap0.3250.0190.345
amplicanNormalize0.0360.0030.039
amplicanOverlap0.0210.0030.024
amplicanPipeline7.5640.5668.185
amplicanReport0.0150.0200.035
amplicanSummarize0.0160.0020.018
amplican_print_reads0.3510.0050.359
assignedCount0.0220.0020.024
barcodeData-set0.0050.0010.005
barcodeData0.0050.0020.006
comb_along0.0220.0040.026
experimentData-set0.0030.0000.005
experimentData0.0060.0010.008
extractEvents2.9560.0313.008
findEOP0.0050.0020.007
findLQR0.0040.0010.006
findPD0.0040.0020.006
fwdReads-set0.0040.0010.005
fwdReads0.4010.0040.407
fwdReadsType-set0.0030.0000.004
fwdReadsType0.0030.0000.004
geom_bezier0.3190.0090.331
lookupAlignment0.2400.0020.244
metaplot_deletions0.2050.0040.212
metaplot_insertions0.3670.0060.378
metaplot_mismatches0.3070.0040.312
plot_cuts0.2920.0040.299
plot_deletions0.2890.0060.298
plot_height0.0000.0000.001
plot_heterogeneity0.3020.0050.309
plot_insertions0.4630.0050.472
plot_mismatches1.5340.0401.588
plot_variants0.6620.0100.679
readCounts-set0.0030.0000.003
readCounts0.0030.0010.004
rveReads-set0.0040.0010.005
rveReads0.4380.0070.448
rveReadsType-set0.0040.0010.004
rveReadsType0.0030.0010.005
unassignedCount0.0020.0000.002
unassignedData-set0.0030.0010.004
unassignedData0.0060.0010.006
writeAlignments0.0170.0010.018