Name | Last modified | Size | Description | |
---|---|---|---|---|
Parent Directory | - | |||
checksrc-out.txt | 03-Nov-2023 00:40 | 7.2K | ||
install-out.txt | 03-Nov-2023 00:40 | 1.1K | ||
buildsrc-out.txt | 03-Nov-2023 00:40 | 875 | ||
checksrc-summary.dcf | 03-Nov-2023 00:40 | 429 | ||
buildsrc-summary.dcf | 03-Nov-2023 00:40 | 420 | ||
install-summary.dcf | 03-Nov-2023 00:40 | 259 | ||