Name | Last modified | Size | Description | |
---|---|---|---|---|
Parent Directory | - | |||
install-summary.dcf | 05-Mar-2024 01:37 | 272 | ||
install-out.txt | 05-Mar-2024 01:37 | 1.0K | ||
checksrc-summary.dcf | 05-Mar-2024 01:37 | 450 | ||
checksrc-out.txt | 05-Mar-2024 01:37 | 2.8K | ||
buildsrc-summary.dcf | 05-Mar-2024 01:37 | 431 | ||
buildsrc-out.txt | 05-Mar-2024 01:37 | 823 | ||
buildbin-summary.dcf | 05-Mar-2024 01:37 | 539 | ||
buildbin-out.txt | 05-Mar-2024 01:37 | 1.2K | ||