Name | Last modified | Size | Description | |
---|---|---|---|---|
Parent Directory | - | |||
install-summary.dcf | 18-Apr-2024 00:36 | 280 | ||
install-out.txt | 18-Apr-2024 00:36 | 1.0K | ||
checksrc-summary.dcf | 18-Apr-2024 00:36 | 471 | ||
checksrc-out.txt | 18-Apr-2024 00:36 | 3.3K | ||
buildsrc-summary.dcf | 18-Apr-2024 00:36 | 477 | ||
buildsrc-out.txt | 18-Apr-2024 00:36 | 869 | ||
buildbin-summary.dcf | 18-Apr-2024 00:36 | 551 | ||
buildbin-out.txt | 18-Apr-2024 00:36 | 1.1K | ||