Index of /checkResults/3.18/bioc-LATEST/affycoretools/raw-results/nebbiolo2

[ICO]NameLast modifiedSizeDescription

[DIR]Parent Directory  -  
[TXT]buildsrc-out.txt30-Mar-2024 00:35 830  
[   ]buildsrc-summary.dcf30-Mar-2024 00:35 435  
[TXT]checksrc-out.txt30-Mar-2024 00:35 3.5K 
[   ]checksrc-summary.dcf30-Mar-2024 00:35 438  
[TXT]install-out.txt30-Mar-2024 00:35 970  
[   ]install-summary.dcf30-Mar-2024 00:35 271