Name | Last modified | Size | Description | |
---|---|---|---|---|
Parent Directory | - | |||
checksrc-summary.dcf | 03-Nov-2023 00:40 | 417 | ||
checksrc-out.txt | 03-Nov-2023 00:40 | 4.3K | ||
buildsrc-summary.dcf | 03-Nov-2023 00:40 | 410 | ||
buildsrc-out.txt | 03-Nov-2023 00:40 | 893 | ||
install-summary.dcf | 03-Nov-2023 00:40 | 253 | ||
install-out.txt | 03-Nov-2023 00:40 | 1.4K | ||