Name | Last modified | Size | Description | |
---|---|---|---|---|
Parent Directory | - | |||
checksrc-summary.dcf | 03-Nov-2023 00:40 | 413 | ||
checksrc-out.txt | 03-Nov-2023 00:40 | 3.7K | ||
buildsrc-summary.dcf | 03-Nov-2023 00:40 | 407 | ||
buildsrc-out.txt | 03-Nov-2023 00:40 | 787 | ||
install-summary.dcf | 03-Nov-2023 00:40 | 251 | ||
install-out.txt | 03-Nov-2023 00:40 | 921 | ||