Name | Last modified | Size | Description | |
---|---|---|---|---|
Parent Directory | - | |||
buildbin-out.txt | 18-Apr-2024 00:38 | 11K | ||
buildbin-summary.dcf | 18-Apr-2024 00:38 | 530 | ||
buildsrc-out.txt | 18-Apr-2024 00:38 | 759 | ||
buildsrc-summary.dcf | 18-Apr-2024 00:38 | 426 | ||
checksrc-out.txt | 18-Apr-2024 00:38 | 5.2K | ||
checksrc-summary.dcf | 18-Apr-2024 00:38 | 450 | ||
install-out.txt | 18-Apr-2024 00:38 | 9.3K | ||
install-summary.dcf | 18-Apr-2024 00:38 | 269 | ||