Name | Last modified | Size | Description | |
---|---|---|---|---|
Parent Directory | - | |||
install-out.txt | 05-Mar-2024 01:38 | 9.3K | ||
install-summary.dcf | 05-Mar-2024 01:38 | 269 | ||
buildsrc-out.txt | 05-Mar-2024 01:38 | 759 | ||
buildsrc-summary.dcf | 05-Mar-2024 01:38 | 426 | ||
checksrc-out.txt | 05-Mar-2024 01:38 | 5.1K | ||
checksrc-summary.dcf | 05-Mar-2024 01:38 | 449 | ||
buildbin-out.txt | 05-Mar-2024 01:38 | 11K | ||
buildbin-summary.dcf | 05-Mar-2024 01:38 | 528 | ||