Index of /checkResults/3.18/bioc-LATEST/TransView/raw-results/nebbiolo2

[ICO]NameLast modifiedSizeDescription

[DIR]Parent Directory  -  
[TXT]install-out.txt30-Mar-2024 00:36 3.9K 
[   ]install-summary.dcf30-Mar-2024 00:36 263  
[TXT]buildsrc-out.txt30-Mar-2024 00:36 844  
[   ]buildsrc-summary.dcf30-Mar-2024 00:36 423  
[TXT]checksrc-out.txt30-Mar-2024 00:36 8.1K 
[   ]checksrc-summary.dcf30-Mar-2024 00:36 428