Name | Last modified | Size | Description | |
---|---|---|---|---|
Parent Directory | - | |||
install-summary.dcf | 05-Mar-2024 01:37 | 273 | ||
buildsrc-summary.dcf | 05-Mar-2024 01:37 | 432 | ||
checksrc-summary.dcf | 05-Mar-2024 01:37 | 458 | ||
buildbin-summary.dcf | 05-Mar-2024 01:37 | 541 | ||
buildsrc-out.txt | 05-Mar-2024 01:37 | 854 | ||
install-out.txt | 05-Mar-2024 01:37 | 4.7K | ||
buildbin-out.txt | 05-Mar-2024 01:37 | 7.3K | ||
checksrc-out.txt | 05-Mar-2024 01:37 | 8.0K | ||