Index of /checkResults/3.18/bioc-LATEST/TransView/raw-results/lconway

[ICO]NameLast modifiedSizeDescription

[DIR]Parent Directory  -  
[TXT]buildbin-out.txt01-Mar-2024 01:38 7.3K 
[   ]buildbin-summary.dcf01-Mar-2024 01:38 542  
[TXT]buildsrc-out.txt01-Mar-2024 01:38 854  
[   ]buildsrc-summary.dcf01-Mar-2024 01:38 433  
[TXT]checksrc-out.txt01-Mar-2024 01:38 8.0K 
[   ]checksrc-summary.dcf01-Mar-2024 01:38 458  
[TXT]install-out.txt01-Mar-2024 01:38 4.7K 
[   ]install-summary.dcf01-Mar-2024 01:38 273