Name | Last modified | Size | Description | |
---|---|---|---|---|
Parent Directory | - | |||
install-out.txt | 18-Apr-2024 00:37 | 968 | ||
install-summary.dcf | 18-Apr-2024 00:37 | 264 | ||
buildsrc-out.txt | 18-Apr-2024 00:37 | 893 | ||
buildsrc-summary.dcf | 18-Apr-2024 00:37 | 445 | ||
checksrc-out.txt | 18-Apr-2024 00:37 | 3.4K | ||
checksrc-summary.dcf | 18-Apr-2024 00:37 | 446 | ||
buildbin-out.txt | 18-Apr-2024 00:37 | 1.1K | ||
buildbin-summary.dcf | 18-Apr-2024 00:37 | 506 | ||