Name | Last modified | Size | Description | |
---|---|---|---|---|
Parent Directory | - | |||
checksrc-out.txt | 03-Nov-2023 00:41 | 3.4K | ||
install-out.txt | 03-Nov-2023 00:41 | 945 | ||
buildsrc-out.txt | 03-Nov-2023 00:41 | 858 | ||
checksrc-summary.dcf | 03-Nov-2023 00:41 | 416 | ||
buildsrc-summary.dcf | 03-Nov-2023 00:41 | 405 | ||
install-summary.dcf | 03-Nov-2023 00:41 | 249 | ||