Back to Multiple platform build/check report for BioC 3.18:   simplified   long
ABCDEFGHIJKLMNOPQR[S]TUVWXYZ

This page was generated on 2023-11-30 11:38:10 -0500 (Thu, 30 Nov 2023).

HostnameOSArch (*)R versionInstalled pkgs
nebbiolo2Linux (Ubuntu 22.04.2 LTS)x86_644.3.2 Patched (2023-11-13 r85521) -- "Eye Holes" 4685
palomino4Windows Server 2022 Datacenterx644.3.2 (2023-10-31 ucrt) -- "Eye Holes" 4420
lconwaymacOS 12.7.1 Montereyx86_644.3.2 Patched (2023-11-01 r85457) -- "Eye Holes" 4439
Click on any hostname to see more info about the system (e.g. compilers)      (*) as reported by 'uname -p', except on Windows and Mac OS X

Package 2030/2266HostnameOS / ArchINSTALLBUILDCHECKBUILD BIN
SpliceWiz 1.4.0  (landing page)
Alex Chit Hei Wong
Snapshot Date: 2023-11-29 14:05:05 -0500 (Wed, 29 Nov 2023)
git_url: https://git.bioconductor.org/packages/SpliceWiz
git_branch: RELEASE_3_18
git_last_commit: f426759
git_last_commit_date: 2023-10-24 11:42:48 -0500 (Tue, 24 Oct 2023)
nebbiolo2Linux (Ubuntu 22.04.2 LTS) / x86_64  OK    OK    OK  UNNEEDED, same version is already published
palomino4Windows Server 2022 Datacenter / x64  OK    OK    OK    OK  UNNEEDED, same version is already published
lconwaymacOS 12.7.1 Monterey / x86_64  OK    OK    OK    OK  UNNEEDED, same version is already published
kjohnson1macOS 13.6.1 Ventura / arm64see weekly results here

INSTALL results for SpliceWiz on lconway


To the developers/maintainers of the SpliceWiz package:
- Allow up to 24 hours (and sometimes 48 hours) for your latest push to git@git.bioconductor.org:packages/SpliceWiz.git to reflect on this report. See Troubleshooting Build Report for more information.
- Use the following Renviron settings to reproduce errors and warnings.
- If 'R CMD check' started to fail recently on the Linux builder(s) over a missing dependency, add the missing dependency to 'Suggests:' in your DESCRIPTION file. See Renviron.bioc for more information.

raw results


Summary

Package: SpliceWiz
Version: 1.4.0
Command: /Library/Frameworks/R.framework/Resources/bin/R CMD INSTALL SpliceWiz
StartedAt: 2023-11-29 15:46:29 -0500 (Wed, 29 Nov 2023)
EndedAt: 2023-11-29 15:48:53 -0500 (Wed, 29 Nov 2023)
EllapsedTime: 144.1 seconds
RetCode: 0
Status:   OK  

Command output

##############################################################################
##############################################################################
###
### Running command:
###
###   /Library/Frameworks/R.framework/Resources/bin/R CMD INSTALL SpliceWiz
###
##############################################################################
##############################################################################


* installing to library ‘/Library/Frameworks/R.framework/Versions/4.3-x86_64/Resources/library’
* installing *source* package ‘SpliceWiz’ ...
** using staged installation
Configuring without OpenMP for MacOS
** libs
using C++ compiler: ‘Apple clang version 14.0.0 (clang-1400.0.29.202)’
using C++11
using SDK: ‘MacOSX11.3.sdk’
clang++ -arch x86_64 -std=gnu++11 -I"/Library/Frameworks/R.framework/Resources/include" -DNDEBUG  -I'/Library/Frameworks/R.framework/Versions/4.3-x86_64/Resources/library/ompBAM/include' -I'/Library/Frameworks/R.framework/Versions/4.3-x86_64/Resources/library/Rcpp/include' -I'/Library/Frameworks/R.framework/Versions/4.3-x86_64/Resources/library/zlibbioc/include' -I'/Library/Frameworks/R.framework/Versions/4.3-x86_64/Resources/library/RcppProgress/include' -I/opt/R/x86_64/include    -DSPLICEWIZ -fPIC  -falign-functions=64 -Wall -g -O2  -c BAM2blocks.cpp -o BAM2blocks.o
clang++ -arch x86_64 -std=gnu++11 -I"/Library/Frameworks/R.framework/Resources/include" -DNDEBUG  -I'/Library/Frameworks/R.framework/Versions/4.3-x86_64/Resources/library/ompBAM/include' -I'/Library/Frameworks/R.framework/Versions/4.3-x86_64/Resources/library/Rcpp/include' -I'/Library/Frameworks/R.framework/Versions/4.3-x86_64/Resources/library/zlibbioc/include' -I'/Library/Frameworks/R.framework/Versions/4.3-x86_64/Resources/library/RcppProgress/include' -I/opt/R/x86_64/include    -DSPLICEWIZ -fPIC  -falign-functions=64 -Wall -g -O2  -c FastaReader.cpp -o FastaReader.o
clang++ -arch x86_64 -std=gnu++11 -I"/Library/Frameworks/R.framework/Resources/include" -DNDEBUG  -I'/Library/Frameworks/R.framework/Versions/4.3-x86_64/Resources/library/ompBAM/include' -I'/Library/Frameworks/R.framework/Versions/4.3-x86_64/Resources/library/Rcpp/include' -I'/Library/Frameworks/R.framework/Versions/4.3-x86_64/Resources/library/zlibbioc/include' -I'/Library/Frameworks/R.framework/Versions/4.3-x86_64/Resources/library/RcppProgress/include' -I/opt/R/x86_64/include    -DSPLICEWIZ -fPIC  -falign-functions=64 -Wall -g -O2  -c FragmentBlocks.cpp -o FragmentBlocks.o
clang++ -arch x86_64 -std=gnu++11 -I"/Library/Frameworks/R.framework/Resources/include" -DNDEBUG  -I'/Library/Frameworks/R.framework/Versions/4.3-x86_64/Resources/library/ompBAM/include' -I'/Library/Frameworks/R.framework/Versions/4.3-x86_64/Resources/library/Rcpp/include' -I'/Library/Frameworks/R.framework/Versions/4.3-x86_64/Resources/library/zlibbioc/include' -I'/Library/Frameworks/R.framework/Versions/4.3-x86_64/Resources/library/RcppProgress/include' -I/opt/R/x86_64/include    -DSPLICEWIZ -fPIC  -falign-functions=64 -Wall -g -O2  -c GZTools.cpp -o GZTools.o
clang++ -arch x86_64 -std=gnu++11 -I"/Library/Frameworks/R.framework/Resources/include" -DNDEBUG  -I'/Library/Frameworks/R.framework/Versions/4.3-x86_64/Resources/library/ompBAM/include' -I'/Library/Frameworks/R.framework/Versions/4.3-x86_64/Resources/library/Rcpp/include' -I'/Library/Frameworks/R.framework/Versions/4.3-x86_64/Resources/library/zlibbioc/include' -I'/Library/Frameworks/R.framework/Versions/4.3-x86_64/Resources/library/RcppProgress/include' -I/opt/R/x86_64/include    -DSPLICEWIZ -fPIC  -falign-functions=64 -Wall -g -O2  -c RcppExports.cpp -o RcppExports.o
clang++ -arch x86_64 -std=gnu++11 -I"/Library/Frameworks/R.framework/Resources/include" -DNDEBUG  -I'/Library/Frameworks/R.framework/Versions/4.3-x86_64/Resources/library/ompBAM/include' -I'/Library/Frameworks/R.framework/Versions/4.3-x86_64/Resources/library/Rcpp/include' -I'/Library/Frameworks/R.framework/Versions/4.3-x86_64/Resources/library/zlibbioc/include' -I'/Library/Frameworks/R.framework/Versions/4.3-x86_64/Resources/library/RcppProgress/include' -I/opt/R/x86_64/include    -DSPLICEWIZ -fPIC  -falign-functions=64 -Wall -g -O2  -c ReadBlockProcessor.cpp -o ReadBlockProcessor.o
clang++ -arch x86_64 -std=gnu++11 -I"/Library/Frameworks/R.framework/Resources/include" -DNDEBUG  -I'/Library/Frameworks/R.framework/Versions/4.3-x86_64/Resources/library/ompBAM/include' -I'/Library/Frameworks/R.framework/Versions/4.3-x86_64/Resources/library/Rcpp/include' -I'/Library/Frameworks/R.framework/Versions/4.3-x86_64/Resources/library/zlibbioc/include' -I'/Library/Frameworks/R.framework/Versions/4.3-x86_64/Resources/library/RcppProgress/include' -I/opt/R/x86_64/include    -DSPLICEWIZ -fPIC  -falign-functions=64 -Wall -g -O2  -c ReadBlockProcessor_CoverageBlocks.cpp -o ReadBlockProcessor_CoverageBlocks.o
ReadBlockProcessor_CoverageBlocks.cpp:251:16: warning: variable 'len' set but not used [-Wunused-but-set-variable]
                unsigned int len=0;
                             ^
1 warning generated.
clang++ -arch x86_64 -std=gnu++11 -I"/Library/Frameworks/R.framework/Resources/include" -DNDEBUG  -I'/Library/Frameworks/R.framework/Versions/4.3-x86_64/Resources/library/ompBAM/include' -I'/Library/Frameworks/R.framework/Versions/4.3-x86_64/Resources/library/Rcpp/include' -I'/Library/Frameworks/R.framework/Versions/4.3-x86_64/Resources/library/zlibbioc/include' -I'/Library/Frameworks/R.framework/Versions/4.3-x86_64/Resources/library/RcppProgress/include' -I/opt/R/x86_64/include    -DSPLICEWIZ -fPIC  -falign-functions=64 -Wall -g -O2  -c ReadBlockProcessor_FragmentsMap.cpp -o ReadBlockProcessor_FragmentsMap.o
clang++ -arch x86_64 -std=gnu++11 -I"/Library/Frameworks/R.framework/Resources/include" -DNDEBUG  -I'/Library/Frameworks/R.framework/Versions/4.3-x86_64/Resources/library/ompBAM/include' -I'/Library/Frameworks/R.framework/Versions/4.3-x86_64/Resources/library/Rcpp/include' -I'/Library/Frameworks/R.framework/Versions/4.3-x86_64/Resources/library/zlibbioc/include' -I'/Library/Frameworks/R.framework/Versions/4.3-x86_64/Resources/library/RcppProgress/include' -I/opt/R/x86_64/include    -DSPLICEWIZ -fPIC  -falign-functions=64 -Wall -g -O2  -c ReadBlockProcessor_TandemJunctions.cpp -o ReadBlockProcessor_TandemJunctions.o
clang++ -arch x86_64 -std=gnu++11 -I"/Library/Frameworks/R.framework/Resources/include" -DNDEBUG  -I'/Library/Frameworks/R.framework/Versions/4.3-x86_64/Resources/library/ompBAM/include' -I'/Library/Frameworks/R.framework/Versions/4.3-x86_64/Resources/library/Rcpp/include' -I'/Library/Frameworks/R.framework/Versions/4.3-x86_64/Resources/library/zlibbioc/include' -I'/Library/Frameworks/R.framework/Versions/4.3-x86_64/Resources/library/RcppProgress/include' -I/opt/R/x86_64/include    -DSPLICEWIZ -fPIC  -falign-functions=64 -Wall -g -O2  -c covTools.cpp -o covTools.o
clang++ -arch x86_64 -std=gnu++11 -I"/Library/Frameworks/R.framework/Resources/include" -DNDEBUG  -I'/Library/Frameworks/R.framework/Versions/4.3-x86_64/Resources/library/ompBAM/include' -I'/Library/Frameworks/R.framework/Versions/4.3-x86_64/Resources/library/Rcpp/include' -I'/Library/Frameworks/R.framework/Versions/4.3-x86_64/Resources/library/zlibbioc/include' -I'/Library/Frameworks/R.framework/Versions/4.3-x86_64/Resources/library/RcppProgress/include' -I/opt/R/x86_64/include    -DSPLICEWIZ -fPIC  -falign-functions=64 -Wall -g -O2  -c main.cpp -o main.o
clang++ -arch x86_64 -std=gnu++11 -I"/Library/Frameworks/R.framework/Resources/include" -DNDEBUG  -I'/Library/Frameworks/R.framework/Versions/4.3-x86_64/Resources/library/ompBAM/include' -I'/Library/Frameworks/R.framework/Versions/4.3-x86_64/Resources/library/Rcpp/include' -I'/Library/Frameworks/R.framework/Versions/4.3-x86_64/Resources/library/zlibbioc/include' -I'/Library/Frameworks/R.framework/Versions/4.3-x86_64/Resources/library/RcppProgress/include' -I/opt/R/x86_64/include    -DSPLICEWIZ -fPIC  -falign-functions=64 -Wall -g -O2  -c swEngine.cpp -o swEngine.o
clang++ -arch x86_64 -std=gnu++11 -I"/Library/Frameworks/R.framework/Resources/include" -DNDEBUG  -I'/Library/Frameworks/R.framework/Versions/4.3-x86_64/Resources/library/ompBAM/include' -I'/Library/Frameworks/R.framework/Versions/4.3-x86_64/Resources/library/Rcpp/include' -I'/Library/Frameworks/R.framework/Versions/4.3-x86_64/Resources/library/zlibbioc/include' -I'/Library/Frameworks/R.framework/Versions/4.3-x86_64/Resources/library/RcppProgress/include' -I/opt/R/x86_64/include    -DSPLICEWIZ -fPIC  -falign-functions=64 -Wall -g -O2  -c synthReadGenerator.cpp -o synthReadGenerator.o
clang++ -arch x86_64 -std=gnu++11 -dynamiclib -Wl,-headerpad_max_install_names -undefined dynamic_lookup -L/Library/Frameworks/R.framework/Resources/lib -L/opt/R/x86_64/lib -o SpliceWiz.so BAM2blocks.o FastaReader.o FragmentBlocks.o GZTools.o RcppExports.o ReadBlockProcessor.o ReadBlockProcessor_CoverageBlocks.o ReadBlockProcessor_FragmentsMap.o ReadBlockProcessor_TandemJunctions.o covTools.o main.o swEngine.o synthReadGenerator.o -DSPLICEWIZ -F/Library/Frameworks/R.framework/.. -framework R -Wl,-framework -Wl,CoreFoundation
installing to /Library/Frameworks/R.framework/Versions/4.3-x86_64/Resources/library/00LOCK-SpliceWiz/00new/SpliceWiz/libs
** R
** inst
** byte-compile and prepare package for lazy loading
** help
*** installing help indices
** building package indices
** installing vignettes
** testing if installed package can be loaded from temporary location
** checking absolute paths in shared objects and dynamic libraries
** testing if installed package can be loaded from final location
** testing if installed package keeps a record of temporary installation path
* DONE (SpliceWiz)