Name | Last modified | Size | Description | |
---|---|---|---|---|
Parent Directory | - | |||
buildsrc-out.txt | 03-Nov-2023 00:41 | 652 | ||
buildsrc-summary.dcf | 03-Nov-2023 00:41 | 333 | ||
checksrc-out.txt | 25-Oct-2023 00:41 | 4.5K | ||
checksrc-summary.dcf | 25-Oct-2023 00:41 | 406 | ||
install-out.txt | 03-Nov-2023 00:41 | 70K | ||
install-summary.dcf | 03-Nov-2023 00:41 | 253 | ||