Name | Last modified | Size | Description | |
---|---|---|---|---|
Parent Directory | - | |||
install-out.txt | 18-Apr-2024 00:37 | 2.4K | ||
install-summary.dcf | 18-Apr-2024 00:37 | 276 | ||
buildsrc-out.txt | 18-Apr-2024 00:37 | 951 | ||
buildsrc-summary.dcf | 18-Apr-2024 00:37 | 468 | ||
checksrc-out.txt | 18-Apr-2024 00:37 | 4.4K | ||
checksrc-summary.dcf | 18-Apr-2024 00:37 | 468 | ||
buildbin-out.txt | 18-Apr-2024 00:37 | 2.6K | ||
buildbin-summary.dcf | 18-Apr-2024 00:37 | 538 | ||