Name | Last modified | Size | Description | |
---|---|---|---|---|
Parent Directory | - | |||
checksrc-out.txt | 24-Oct-2023 00:40 | 4.0K | ||
checksrc-summary.dcf | 24-Oct-2023 00:40 | 407 | ||
install-out.txt | 03-Nov-2023 00:41 | 951 | ||
install-summary.dcf | 03-Nov-2023 00:41 | 254 | ||
buildsrc-out.txt | 03-Nov-2023 00:41 | 1.4K | ||
buildsrc-summary.dcf | 03-Nov-2023 00:41 | 330 | ||