Name | Last modified | Size | Description | |
---|---|---|---|---|
Parent Directory | - | |||
buildsrc-out.txt | 18-Apr-2024 00:36 | 824 | ||
buildsrc-summary.dcf | 18-Apr-2024 00:36 | 408 | ||
checksrc-out.txt | 18-Apr-2024 00:36 | 3.8K | ||
checksrc-summary.dcf | 18-Apr-2024 00:36 | 401 | ||
install-out.txt | 18-Apr-2024 00:36 | 2.0K | ||
install-summary.dcf | 18-Apr-2024 00:36 | 253 | ||