Name | Last modified | Size | Description | |
---|---|---|---|---|
Parent Directory | - | |||
install-summary.dcf | 18-Apr-2024 00:38 | 263 | ||
buildsrc-summary.dcf | 18-Apr-2024 00:38 | 418 | ||
checksrc-summary.dcf | 18-Apr-2024 00:38 | 432 | ||
buildbin-summary.dcf | 18-Apr-2024 00:38 | 512 | ||
buildsrc-out.txt | 18-Apr-2024 00:38 | 834 | ||
install-out.txt | 18-Apr-2024 00:38 | 2.4K | ||
checksrc-out.txt | 18-Apr-2024 00:38 | 3.8K | ||
buildbin-out.txt | 18-Apr-2024 00:38 | 4.5K | ||