Name | Last modified | Size | Description | |
---|---|---|---|---|
Parent Directory | - | |||
install-summary.dcf | 03-Nov-2023 00:41 | 247 | ||
buildsrc-summary.dcf | 03-Nov-2023 00:41 | 402 | ||
checksrc-summary.dcf | 03-Nov-2023 00:41 | 410 | ||
buildsrc-out.txt | 03-Nov-2023 00:41 | 818 | ||
install-out.txt | 03-Nov-2023 00:41 | 2.0K | ||
checksrc-out.txt | 03-Nov-2023 00:41 | 4.9K | ||