Name | Last modified | Size | Description | |
---|---|---|---|---|
Parent Directory | - | |||
buildbin-out.txt | 21-Jun-2023 00:39 | 1.1K | ||
buildbin-summary.dcf | 21-Jun-2023 00:39 | 518 | ||
buildsrc-out.txt | 05-Mar-2024 01:37 | 883 | ||
buildsrc-summary.dcf | 05-Mar-2024 01:37 | 338 | ||
checksrc-out.txt | 21-Jun-2023 00:39 | 4.2K | ||
checksrc-summary.dcf | 21-Jun-2023 00:39 | 436 | ||
install-out.txt | 05-Mar-2024 01:37 | 691 | ||
install-summary.dcf | 05-Mar-2024 01:37 | 267 | ||