Name | Last modified | Size | Description | |
---|---|---|---|---|
Parent Directory | - | |||
buildbin-out.txt | 18-Apr-2024 00:38 | 76K | ||
buildbin-summary.dcf | 18-Apr-2024 00:38 | 531 | ||
buildsrc-out.txt | 18-Apr-2024 00:38 | 846 | ||
buildsrc-summary.dcf | 18-Apr-2024 00:38 | 428 | ||
checksrc-out.txt | 18-Apr-2024 00:38 | 4.8K | ||
checksrc-summary.dcf | 18-Apr-2024 00:38 | 450 | ||
install-out.txt | 18-Apr-2024 00:38 | 74K | ||
install-summary.dcf | 18-Apr-2024 00:38 | 270 | ||