Index of /checkResults/3.18/bioc-LATEST/Rhisat2/raw-results/kunpeng2
Name
Last modified
Size
Description
Parent Directory
-
buildsrc-out.txt
03-Nov-2023 00:41
1.8K
buildsrc-summary.dcf
03-Nov-2023 00:41
326
install-out.txt
03-Nov-2023 00:41
1.5K
install-summary.dcf
03-Nov-2023 00:41
255