Name | Last modified | Size | Description | |
---|---|---|---|---|
Parent Directory | - | |||
install-summary.dcf | 05-Mar-2024 01:37 | 274 | ||
buildsrc-summary.dcf | 05-Mar-2024 01:37 | 434 | ||
checksrc-summary.dcf | 05-Mar-2024 01:37 | 457 | ||
buildbin-summary.dcf | 05-Mar-2024 01:37 | 543 | ||
buildsrc-out.txt | 05-Mar-2024 01:37 | 902 | ||
checksrc-out.txt | 05-Mar-2024 01:37 | 9.1K | ||
install-out.txt | 05-Mar-2024 01:37 | 178K | ||
buildbin-out.txt | 05-Mar-2024 01:37 | 181K | ||