Name | Last modified | Size | Description | |
---|---|---|---|---|
Parent Directory | - | |||
install-summary.dcf | 18-Apr-2024 00:37 | 276 | ||
install-out.txt | 18-Apr-2024 00:37 | 1.6K | ||
checksrc-summary.dcf | 18-Apr-2024 00:37 | 463 | ||
checksrc-out.txt | 18-Apr-2024 00:37 | 5.5K | ||
buildsrc-summary.dcf | 18-Apr-2024 00:37 | 467 | ||
buildsrc-out.txt | 18-Apr-2024 00:37 | 896 | ||
buildbin-summary.dcf | 18-Apr-2024 00:37 | 539 | ||
buildbin-out.txt | 18-Apr-2024 00:37 | 1.8K | ||