Name | Last modified | Size | Description | |
---|---|---|---|---|
Parent Directory | - | |||
buildsrc-out.txt | 18-Apr-2024 00:36 | 862 | ||
buildsrc-summary.dcf | 18-Apr-2024 00:36 | 430 | ||
checksrc-out.txt | 18-Apr-2024 00:36 | 5.6K | ||
checksrc-summary.dcf | 18-Apr-2024 00:36 | 431 | ||
install-out.txt | 18-Apr-2024 00:36 | 1.7K | ||
install-summary.dcf | 18-Apr-2024 00:36 | 266 | ||