Name | Last modified | Size | Description | |
---|---|---|---|---|
Parent Directory | - | |||
install-out.txt | 18-Apr-2024 00:37 | 1.0K | ||
install-summary.dcf | 18-Apr-2024 00:37 | 302 | ||
buildsrc-out.txt | 18-Apr-2024 00:37 | 924 | ||
buildsrc-summary.dcf | 18-Apr-2024 00:37 | 520 | ||
checksrc-out.txt | 18-Apr-2024 00:37 | 3.2K | ||
checksrc-summary.dcf | 18-Apr-2024 00:37 | 514 | ||
buildbin-out.txt | 18-Apr-2024 00:37 | 1.2K | ||
buildbin-summary.dcf | 18-Apr-2024 00:37 | 617 | ||