Name | Last modified | Size | Description | |
---|---|---|---|---|
Parent Directory | - | |||
install-summary.dcf | 03-Nov-2023 00:41 | 286 | ||
buildsrc-summary.dcf | 03-Nov-2023 00:41 | 461 | ||
checksrc-summary.dcf | 03-Nov-2023 00:41 | 484 | ||
buildsrc-out.txt | 03-Nov-2023 00:41 | 868 | ||
install-out.txt | 03-Nov-2023 00:41 | 1.0K | ||
checksrc-out.txt | 03-Nov-2023 00:41 | 3.3K | ||