Index of /checkResults/3.18/bioc-LATEST/Rcollectl/raw-results/kunpeng2
Name
Last modified
Size
Description
Parent Directory
-
buildsrc-summary.dcf
03-Nov-2023 00:41
330
buildsrc-out.txt
03-Nov-2023 00:41
1.0K
install-out.txt
03-Nov-2023 00:41
946
install-summary.dcf
03-Nov-2023 00:41
255