Name | Last modified | Size | Description | |
---|---|---|---|---|
Parent Directory | - | |||
buildbin-out.txt | 18-Apr-2024 00:37 | 1.5K | ||
buildbin-summary.dcf | 18-Apr-2024 00:37 | 557 | ||
buildsrc-out.txt | 18-Apr-2024 00:37 | 911 | ||
buildsrc-summary.dcf | 18-Apr-2024 00:37 | 480 | ||
checksrc-out.txt | 18-Apr-2024 00:37 | 3.2K | ||
checksrc-summary.dcf | 18-Apr-2024 00:37 | 475 | ||
install-out.txt | 18-Apr-2024 00:37 | 1.3K | ||
install-summary.dcf | 18-Apr-2024 00:37 | 282 | ||