Name | Last modified | Size | Description | |
---|---|---|---|---|
Parent Directory | - | |||
install-out.txt | 18-Apr-2024 00:38 | 1.4K | ||
install-summary.dcf | 18-Apr-2024 00:38 | 283 | ||
buildsrc-out.txt | 18-Apr-2024 00:38 | 884 | ||
buildsrc-summary.dcf | 18-Apr-2024 00:38 | 449 | ||
checksrc-summary.dcf | 18-Apr-2024 00:38 | 472 | ||
checksrc-out.txt | 18-Apr-2024 00:38 | 3.2K | ||
buildbin-out.txt | 18-Apr-2024 00:38 | 1.6K | ||
buildbin-summary.dcf | 18-Apr-2024 00:38 | 572 | ||