Name | Last modified | Size | Description | |
---|---|---|---|---|
Parent Directory | - | |||
install-summary.dcf | 03-Nov-2023 00:41 | 255 | ||
install-out.txt | 03-Nov-2023 00:41 | 943 | ||
checksrc-summary.dcf | 03-Nov-2023 00:41 | 428 | ||
checksrc-out.txt | 03-Nov-2023 00:41 | 5.9K | ||
buildsrc-summary.dcf | 03-Nov-2023 00:41 | 415 | ||
buildsrc-out.txt | 03-Nov-2023 00:41 | 867 | ||