Index of /checkResults/3.18/bioc-LATEST/RLSeq/raw-results/lconway
Name
Last modified
Size
Description
Parent Directory
-
buildsrc-out.txt
05-Mar-2024 01:37
878
buildsrc-summary.dcf
05-Mar-2024 01:37
337
install-out.txt
05-Mar-2024 01:37
687
install-summary.dcf
05-Mar-2024 01:37
266