Index of /checkResults/3.18/bioc-LATEST/RGMQL/raw-results/kunpeng2
Name
Last modified
Size
Description
Parent Directory
-
buildsrc-out.txt
03-Nov-2023 00:41
6.6K
buildsrc-summary.dcf
03-Nov-2023 00:41
323
install-out.txt
03-Nov-2023 00:41
934
install-summary.dcf
03-Nov-2023 00:41
249