Name | Last modified | Size | Description | |
---|---|---|---|---|
Parent Directory | - | |||
checksrc-out.txt | 18-Apr-2024 00:37 | 3.8K | ||
buildbin-out.txt | 18-Apr-2024 00:37 | 1.1K | ||
install-out.txt | 18-Apr-2024 00:37 | 1.0K | ||
buildsrc-out.txt | 18-Apr-2024 00:37 | 819 | ||
buildbin-summary.dcf | 18-Apr-2024 00:37 | 491 | ||
buildsrc-summary.dcf | 18-Apr-2024 00:37 | 435 | ||
checksrc-summary.dcf | 18-Apr-2024 00:37 | 431 | ||
install-summary.dcf | 18-Apr-2024 00:37 | 260 | ||