Name | Last modified | Size | Description | |
---|---|---|---|---|
Parent Directory | - | |||
buildsrc-out.txt | 18-Apr-2024 00:36 | 790 | ||
buildsrc-summary.dcf | 18-Apr-2024 00:36 | 405 | ||
checksrc-out.txt | 18-Apr-2024 00:36 | 3.7K | ||
checksrc-summary.dcf | 18-Apr-2024 00:36 | 398 | ||
install-out.txt | 18-Apr-2024 00:36 | 1.0K | ||
install-summary.dcf | 18-Apr-2024 00:36 | 251 | ||