Name | Last modified | Size | Description | |
---|---|---|---|---|
Parent Directory | - | |||
buildsrc-out.txt | 03-Nov-2023 00:41 | 784 | ||
buildsrc-summary.dcf | 03-Nov-2023 00:41 | 397 | ||
checksrc-out.txt | 03-Nov-2023 00:41 | 3.9K | ||
checksrc-summary.dcf | 03-Nov-2023 00:41 | 401 | ||
install-out.txt | 03-Nov-2023 00:41 | 971 | ||
install-summary.dcf | 03-Nov-2023 00:41 | 245 | ||