Name | Last modified | Size | Description | |
---|---|---|---|---|
Parent Directory | - | |||
buildbin-summary.dcf | 18-Apr-2024 00:38 | 529 | ||
buildbin-out.txt | 18-Apr-2024 00:38 | 1.2K | ||
checksrc-summary.dcf | 18-Apr-2024 00:38 | 443 | ||
checksrc-out.txt | 18-Apr-2024 00:38 | 4.9K | ||
buildsrc-summary.dcf | 18-Apr-2024 00:38 | 427 | ||
buildsrc-out.txt | 18-Apr-2024 00:38 | 879 | ||
install-summary.dcf | 18-Apr-2024 00:38 | 269 | ||
install-out.txt | 18-Apr-2024 00:38 | 1.0K | ||