Name | Last modified | Size | Description | |
---|---|---|---|---|
Parent Directory | - | |||
install-out.txt | 05-Mar-2024 01:37 | 5.4K | ||
install-summary.dcf | 05-Mar-2024 01:37 | 265 | ||
buildsrc-out.txt | 05-Mar-2024 01:37 | 838 | ||
buildsrc-summary.dcf | 05-Mar-2024 01:37 | 421 | ||
checksrc-out.txt | 05-Mar-2024 01:37 | 4.4K | ||
checksrc-summary.dcf | 05-Mar-2024 01:37 | 435 | ||
buildbin-out.txt | 05-Mar-2024 01:37 | 7.4K | ||
buildbin-summary.dcf | 05-Mar-2024 01:37 | 518 | ||