Name | Last modified | Size | Description | |
---|---|---|---|---|
Parent Directory | - | |||
install-summary.dcf | 03-Nov-2023 00:41 | 249 | ||
install-out.txt | 03-Nov-2023 00:41 | 4.3K | ||
checksrc-summary.dcf | 03-Nov-2023 00:41 | 408 | ||
checksrc-out.txt | 03-Nov-2023 00:41 | 4.3K | ||
buildsrc-summary.dcf | 03-Nov-2023 00:41 | 406 | ||
buildsrc-out.txt | 03-Nov-2023 00:41 | 822 | ||