Name | Last modified | Size | Description | |
---|---|---|---|---|
Parent Directory | - | |||
install-out.txt | 18-Apr-2024 00:38 | 1.0K | ||
install-summary.dcf | 18-Apr-2024 00:38 | 264 | ||
buildsrc-out.txt | 18-Apr-2024 00:38 | 961 | ||
buildsrc-summary.dcf | 18-Apr-2024 00:38 | 419 | ||
checksrc-summary.dcf | 18-Apr-2024 00:38 | 438 | ||
checksrc-out.txt | 18-Apr-2024 00:38 | 7.2K | ||
buildbin-out.txt | 18-Apr-2024 00:38 | 1.1K | ||
buildbin-summary.dcf | 18-Apr-2024 00:38 | 513 | ||