Back to Multiple platform build/check report for BioC 3.18:   simplified   long
ABCDEFGHIJKLMNO[P]QRSTUVWXYZ

This page was generated on 2023-12-02 11:37:36 -0500 (Sat, 02 Dec 2023).

HostnameOSArch (*)R versionInstalled pkgs
nebbiolo2Linux (Ubuntu 22.04.2 LTS)x86_644.3.2 Patched (2023-11-13 r85521) -- "Eye Holes" 4685
palomino4Windows Server 2022 Datacenterx644.3.2 (2023-10-31 ucrt) -- "Eye Holes" 4420
lconwaymacOS 12.7.1 Montereyx86_644.3.2 Patched (2023-11-01 r85457) -- "Eye Holes" 4439
Click on any hostname to see more info about the system (e.g. compilers)      (*) as reported by 'uname -p', except on Windows and Mac OS X

Package 1545/2266HostnameOS / ArchINSTALLBUILDCHECKBUILD BIN
PhyloProfile 1.16.0  (landing page)
Vinh Tran
Snapshot Date: 2023-12-01 14:05:06 -0500 (Fri, 01 Dec 2023)
git_url: https://git.bioconductor.org/packages/PhyloProfile
git_branch: RELEASE_3_18
git_last_commit: ec26674
git_last_commit_date: 2023-10-24 11:15:33 -0500 (Tue, 24 Oct 2023)
nebbiolo2Linux (Ubuntu 22.04.2 LTS) / x86_64  OK    OK    OK  UNNEEDED, same version is already published
palomino4Windows Server 2022 Datacenter / x64  OK    OK    OK    OK  UNNEEDED, same version is already published
lconwaymacOS 12.7.1 Monterey / x86_64  OK    OK    OK    OK  UNNEEDED, same version is already published
kjohnson1macOS 13.6.1 Ventura / arm64see weekly results here

CHECK results for PhyloProfile on lconway


To the developers/maintainers of the PhyloProfile package:
- Allow up to 24 hours (and sometimes 48 hours) for your latest push to git@git.bioconductor.org:packages/PhyloProfile.git to reflect on this report. See Troubleshooting Build Report for more information.
- Use the following Renviron settings to reproduce errors and warnings.
- If 'R CMD check' started to fail recently on the Linux builder(s) over a missing dependency, add the missing dependency to 'Suggests:' in your DESCRIPTION file. See Renviron.bioc for more information.

raw results


Summary

Package: PhyloProfile
Version: 1.16.0
Command: /Library/Frameworks/R.framework/Resources/bin/R CMD check --install=check:PhyloProfile.install-out.txt --library=/Library/Frameworks/R.framework/Resources/library --no-vignettes --timings PhyloProfile_1.16.0.tar.gz
StartedAt: 2023-12-01 22:00:51 -0500 (Fri, 01 Dec 2023)
EndedAt: 2023-12-01 22:03:50 -0500 (Fri, 01 Dec 2023)
EllapsedTime: 178.8 seconds
RetCode: 0
Status:   OK  
CheckDir: PhyloProfile.Rcheck
Warnings: 0

Command output

##############################################################################
##############################################################################
###
### Running command:
###
###   /Library/Frameworks/R.framework/Resources/bin/R CMD check --install=check:PhyloProfile.install-out.txt --library=/Library/Frameworks/R.framework/Resources/library --no-vignettes --timings PhyloProfile_1.16.0.tar.gz
###
##############################################################################
##############################################################################


* using log directory ‘/Users/biocbuild/bbs-3.18-bioc/meat/PhyloProfile.Rcheck’
* using R version 4.3.2 Patched (2023-11-01 r85457)
* using platform: x86_64-apple-darwin20 (64-bit)
* R was compiled by
    Apple clang version 14.0.3 (clang-1403.0.22.14.1)
    GNU Fortran (GCC) 12.2.0
* running under: macOS Monterey 12.7.1
* using session charset: UTF-8
* using option ‘--no-vignettes’
* checking for file ‘PhyloProfile/DESCRIPTION’ ... OK
* this is package ‘PhyloProfile’ version ‘1.16.0’
* package encoding: UTF-8
* checking package namespace information ... OK
* checking package dependencies ... OK
* checking if this is a source package ... OK
* checking if there is a namespace ... OK
* checking for hidden files and directories ... OK
* checking for portable file names ... OK
* checking for sufficient/correct file permissions ... OK
* checking whether package ‘PhyloProfile’ can be installed ... OK
* checking installed package size ... OK
* checking package directory ... OK
* checking ‘build’ directory ... OK
* checking DESCRIPTION meta-information ... OK
* checking top-level files ... OK
* checking for left-over files ... OK
* checking index information ... OK
* checking package subdirectories ... OK
* checking R files for non-ASCII characters ... OK
* checking R files for syntax errors ... OK
* checking whether the package can be loaded ... OK
* checking whether the package can be loaded with stated dependencies ... OK
* checking whether the package can be unloaded cleanly ... OK
* checking whether the namespace can be loaded with stated dependencies ... OK
* checking whether the namespace can be unloaded cleanly ... OK
* checking dependencies in R code ... OK
* checking S3 generic/method consistency ... OK
* checking replacement functions ... OK
* checking foreign function calls ... OK
* checking R code for possible problems ... OK
* checking Rd files ... OK
* checking Rd metadata ... OK
* checking Rd cross-references ... OK
* checking for missing documentation entries ... OK
* checking for code/documentation mismatches ... OK
* checking Rd \usage sections ... OK
* checking Rd contents ... OK
* checking for unstated dependencies in examples ... OK
* checking contents of ‘data’ directory ... OK
* checking data for non-ASCII characters ... OK
* checking data for ASCII and uncompressed saves ... OK
* checking files in ‘vignettes’ ... OK
* checking examples ... OK
* checking for unstated dependencies in ‘tests’ ... OK
* checking tests ...
  Running ‘testthat.R’
 OK
* checking for unstated dependencies in vignettes ... OK
* checking package vignettes in ‘inst/doc’ ... OK
* checking running R code from vignettes ... SKIPPED
* checking re-building of vignette outputs ... SKIPPED
* checking PDF version of manual ... OK
* DONE

Status: OK


Installation output

PhyloProfile.Rcheck/00install.out

##############################################################################
##############################################################################
###
### Running command:
###
###   /Library/Frameworks/R.framework/Resources/bin/R CMD INSTALL PhyloProfile
###
##############################################################################
##############################################################################


* installing to library ‘/Library/Frameworks/R.framework/Versions/4.3-x86_64/Resources/library’
* installing *source* package ‘PhyloProfile’ ...
** using staged installation
** R
** data
** inst
** byte-compile and prepare package for lazy loading
** help
*** installing help indices
** building package indices
** installing vignettes
** testing if installed package can be loaded from temporary location
** testing if installed package can be loaded from final location
** testing if installed package keeps a record of temporary installation path
* DONE (PhyloProfile)

Tests output

PhyloProfile.Rcheck/tests/testthat.Rout


R version 4.3.2 Patched (2023-11-01 r85457) -- "Eye Holes"
Copyright (C) 2023 The R Foundation for Statistical Computing
Platform: x86_64-apple-darwin20 (64-bit)

R is free software and comes with ABSOLUTELY NO WARRANTY.
You are welcome to redistribute it under certain conditions.
Type 'license()' or 'licence()' for distribution details.

R is a collaborative project with many contributors.
Type 'contributors()' for more information and
'citation()' on how to cite R or R packages in publications.

Type 'demo()' for some demos, 'help()' for on-line help, or
'help.start()' for an HTML browser interface to help.
Type 'q()' to quit R.

> library(testthat)
> library(PhyloProfile)
> 
> test_check("PhyloProfile")
[ FAIL 0 | WARN 0 | SKIP 0 | PASS 20 ]
> 
> proc.time()
   user  system elapsed 
  7.574   0.570   8.207 

Example timings

PhyloProfile.Rcheck/PhyloProfile-Ex.timings

nameusersystemelapsed
addRankDivisionPlot1.2480.0371.297
calcPresSpec0.0290.0070.036
checkInputValidity0.0100.0020.012
checkNewick0.0030.0020.004
checkOmaID0.0010.0000.000
clusterDataDend0.0210.0040.026
compareMedianTaxonGroups0.0280.0060.033
compareTaxonGroups0.0360.0060.042
createArchiPlot0.5000.0510.556
createGeneAgePlot0.2060.0030.212
createLongMatrix0.0260.0090.035
createPercentageDistributionData0.0590.0120.072
createProfileFromOma000
createUnrootedTree0.0120.0020.013
createVarDistPlot0.1440.0040.150
createVariableDistributionData0.0070.0030.010
createVariableDistributionDataSubset0.0080.0020.010
dataCustomizedPlot0.0170.0020.020
dataFeatureTaxGroup0.0130.0020.016
dataMainPlot0.0230.0090.032
dataVarDistTaxGroup0.0050.0020.006
estimateGeneAge0.0780.0110.090
fastaParser0.0330.0020.035
featureDistTaxPlot0.2100.0080.220
filterProfileData0.0700.0250.097
fromInputToProfile0.0640.0140.079
geneAgePlotDf0.0030.0010.004
generateSinglePlot0.5530.0130.571
getAllDomainsOma000
getAllFastaOma0.0000.0010.000
getCommonAncestor0.0310.0030.034
getCoreGene0.0430.0080.052
getDataClustering0.0100.0010.012
getDataForOneOma000
getDendrogram0.0410.0030.044
getDistanceMatrix0.0100.0010.012
getDomainFolder0.0000.0000.001
getFastaFromFasInput0.0130.0010.014
getFastaFromFile0.0090.0010.011
getFastaFromFolder0.0080.0020.008
getIDsRank0.0290.0030.032
getInputTaxaID0.0030.0020.005
getInputTaxaName0.0140.0040.017
getNameList0.0220.0200.043
getOmaDataForOneOrtholog0.0000.0000.001
getOmaDomainFromURL000
getOmaMembers000
getQualColForVector0.0000.0010.000
getSelectedFastaOma000
getSelectedTaxonNames0.0180.0050.024
getTaxHierarchy0.0170.0020.020
getTaxonomyInfo0.0140.0020.016
getTaxonomyMatrix0.0950.0780.174
getTaxonomyRanks0.0010.0010.000
gridArrangeSharedLegend0.6250.0140.646
heatmapPlotting0.3590.0070.368
highlightProfilePlot0.4000.0080.413
id2name0.0030.0010.004
mainTaxonomyRank0.0000.0010.000
modifyFeatureName000
pairDomainPlotting0.0010.0000.000
parseDomainInput0.0200.0150.036
parseInfoProfile0.0510.0200.071
processNcbiTaxonomy0.0970.0700.233
processOrthoID0.1050.0460.170
qualitativeColours000
rankIndexing0.0000.0010.000
reduceProfile0.0150.0060.021
runPhyloProfile0.0890.0490.159
singleDomainPlotting0.0000.0010.000
sortDomains0.0000.0010.000
sortInputTaxa0.0360.0080.045
sortTaxaFromTree0.0150.0010.015
taxonomyTableCreator0.1200.0080.130
varDistTaxPlot1.3200.0321.368
wideToLong0.0140.0060.020
xmlParser0.0150.0020.018