Name | Last modified | Size | Description | |
---|---|---|---|---|
Parent Directory | - | |||
buildsrc-out.txt | 03-Nov-2023 00:41 | 840 | ||
buildsrc-summary.dcf | 03-Nov-2023 00:41 | 412 | ||
checksrc-out.txt | 03-Nov-2023 00:41 | 3.4K | ||
checksrc-summary.dcf | 03-Nov-2023 00:41 | 418 | ||
install-out.txt | 03-Nov-2023 00:41 | 940 | ||
install-summary.dcf | 03-Nov-2023 00:41 | 253 | ||