Name | Last modified | Size | Description | |
---|---|---|---|---|
Parent Directory | - | |||
buildsrc-out.txt | 03-Nov-2023 00:41 | 851 | ||
buildsrc-summary.dcf | 03-Nov-2023 00:41 | 402 | ||
checksrc-out.txt | 03-Nov-2023 00:41 | 4.3K | ||
checksrc-summary.dcf | 03-Nov-2023 00:41 | 404 | ||
install-out.txt | 03-Nov-2023 00:41 | 939 | ||
install-summary.dcf | 03-Nov-2023 00:41 | 246 | ||