Index of /checkResults/3.18/bioc-LATEST/OmnipathR/raw-results/merida1
Name
Last modified
Size
Description
Parent Directory
-
buildsrc-out.txt
18-Apr-2024 00:38
101K
buildsrc-summary.dcf
18-Apr-2024 00:38
349
install-out.txt
18-Apr-2024 00:38
5.3K
install-summary.dcf
18-Apr-2024 00:38
273