Name | Last modified | Size | Description | |
---|---|---|---|---|
Parent Directory | - | |||
install-summary.dcf | 18-Apr-2024 00:36 | 260 | ||
install-out.txt | 18-Apr-2024 00:36 | 1.0K | ||
checksrc-summary.dcf | 18-Apr-2024 00:36 | 417 | ||
checksrc-out.txt | 18-Apr-2024 00:36 | 3.6K | ||
buildsrc-summary.dcf | 18-Apr-2024 00:36 | 420 | ||
buildsrc-out.txt | 18-Apr-2024 00:36 | 971 | ||