Name | Last modified | Size | Description | |
---|---|---|---|---|
Parent Directory | - | |||
buildbin-out.txt | 18-Apr-2024 00:38 | 1.2K | ||
buildbin-summary.dcf | 18-Apr-2024 00:38 | 536 | ||
buildsrc-out.txt | 18-Apr-2024 00:38 | 1.0K | ||
buildsrc-summary.dcf | 18-Apr-2024 00:38 | 430 | ||
checksrc-out.txt | 18-Apr-2024 00:38 | 3.6K | ||
checksrc-summary.dcf | 18-Apr-2024 00:38 | 448 | ||
install-out.txt | 18-Apr-2024 00:38 | 1.0K | ||
install-summary.dcf | 18-Apr-2024 00:38 | 271 | ||