Name | Last modified | Size | Description | |
---|---|---|---|---|
Parent Directory | - | |||
install-summary.dcf | 03-Nov-2023 00:41 | 263 | ||
buildsrc-summary.dcf | 03-Nov-2023 00:41 | 427 | ||
checksrc-summary.dcf | 03-Nov-2023 00:41 | 437 | ||
buildsrc-out.txt | 03-Nov-2023 00:41 | 883 | ||
install-out.txt | 03-Nov-2023 00:41 | 963 | ||
checksrc-out.txt | 03-Nov-2023 00:41 | 4.0K | ||