Name | Last modified | Size | Description | |
---|---|---|---|---|
Parent Directory | - | |||
checksrc-summary.dcf | 18-Apr-2024 00:36 | 422 | ||
checksrc-out.txt | 18-Apr-2024 00:36 | 4.2K | ||
buildsrc-summary.dcf | 18-Apr-2024 00:36 | 420 | ||
buildsrc-out.txt | 18-Apr-2024 00:36 | 873 | ||
install-summary.dcf | 18-Apr-2024 00:36 | 260 | ||
install-out.txt | 18-Apr-2024 00:36 | 955 | ||